BEGIN:VCALENDAR
VERSION:2.0
PRODID:-//Lafon Arts Center - ECPv6.15.17.1//NONSGML v1.0//EN
CALSCALE:GREGORIAN
METHOD:PUBLISH
X-WR-CALNAME:Lafon Arts Center
X-ORIGINAL-URL:https://lafonartscenter.org
X-WR-CALDESC:Events for Lafon Arts Center
REFRESH-INTERVAL;VALUE=DURATION:PT1H
X-Robots-Tag:noindex
X-PUBLISHED-TTL:PT1H
BEGIN:VTIMEZONE
TZID:America/Chicago
BEGIN:DAYLIGHT
TZOFFSETFROM:-0600
TZOFFSETTO:-0500
TZNAME:CDT
DTSTART:20240310T080000
END:DAYLIGHT
BEGIN:STANDARD
TZOFFSETFROM:-0500
TZOFFSETTO:-0600
TZNAME:CST
DTSTART:20241103T070000
END:STANDARD
BEGIN:DAYLIGHT
TZOFFSETFROM:-0600
TZOFFSETTO:-0500
TZNAME:CDT
DTSTART:20250309T080000
END:DAYLIGHT
BEGIN:STANDARD
TZOFFSETFROM:-0500
TZOFFSETTO:-0600
TZNAME:CST
DTSTART:20251102T070000
END:STANDARD
BEGIN:DAYLIGHT
TZOFFSETFROM:-0600
TZOFFSETTO:-0500
TZNAME:CDT
DTSTART:20260308T080000
END:DAYLIGHT
BEGIN:STANDARD
TZOFFSETFROM:-0500
TZOFFSETTO:-0600
TZNAME:CST
DTSTART:20261101T070000
END:STANDARD
END:VTIMEZONE
BEGIN:VEVENT
DTSTART;TZID=America/Chicago:20251101T140000
DTEND;TZID=America/Chicago:20251101T140000
DTSTAMP:20260419T092846
CREATED:20250529T080032Z
LAST-MODIFIED:20251210T061434Z
UID:3284-1762005600-1762005600@lafonartscenter.org
SUMMARY:Billy Goats Gruff and Other Tales
DESCRIPTION:Mermaid Theatre of Nova Scotia’s newest production\, Billy Goats Gruff and Other Tales\, presents a fresh and engaging reimagining of three cherished children’s stories—Goldilocks and the Three Bears\, The Three Little Pigs\, and The Three Billy Goats Gruff.  Filled with adventure\, humor\, and heroism\, the story follows a brave raccoon and clever mouse who are on a journey to collect treasure. Along the way\, they unknowingly help the goats\, bears\, and pigs\, preventing disaster—without any of the animals ever encountering a true villain. This imaginative retelling seamlessly interweaves three classic tales into a heartwarming adventure that celebrates friendship and courage. \nDesigned for children ages 3 to 7\, Mermaid Theatre’s latest production offers a captivating performance\, laughter\, and wonder for young audiences.
URL:https://lafonartscenter.org/event/billy-goats-gruff-and-other-tales/
LOCATION:The Shell Theatre at the Lafon Arts Center\, 275 Judge Edward Dufresne Pkwy\, Luling\, LA\, 70070\, United States
CATEGORIES:Mainstage Series,Orange
ATTACH;FMTTYPE=image/png:https://lafonartscenter.org/wp-content/uploads/2025/12/BGG-NlDwzj.png
END:VEVENT
BEGIN:VEVENT
DTSTART;TZID=America/Chicago:20251103T180000
DTEND;TZID=America/Chicago:20251103T180000
DTSTAMP:20260419T092846
CREATED:20251016T182007Z
LAST-MODIFIED:20251210T061433Z
UID:3571-1762192800-1762192800@lafonartscenter.org
SUMMARY:The U.S. and the Holocaust: A Film Screening and Discussion in Collaboration with St. Charles Parish Library
DESCRIPTION:This 44-minute screening of selections from the documentary The U.S. and the Holocaust by Ken Burns\, Lynn Novick and Sarah Botstein examines the rise of Hitler and Nazism in Germany in the context of global antisemitism and racism\, the eugenics movement in the United States\, and race laws in the American south. \nIt also sheds light on what the U.S. government and American people knew and did as the catastrophe unfolded in Europe. \nThis program will be in the Black Box Theater. \n\nA panel discussion will follow\, and we will introduce the upcoming Americans and the Holocaust exhibition that will be held at the East Regional Library in Destrehan from December 5\, 2025 through January 10\, 2026. \n\nDisclaimer: Designed for adults and teens ages 13 and older \nCLICK HERE to Register
URL:https://lafonartscenter.org/event/the-u-s-and-the-holocaust-a-film-screening-and-discussion-in-collaboration-with-st-charles-parish-library/
LOCATION:The Shell Theatre at the Lafon Arts Center\, 275 Judge Edward Dufresne Pkwy\, Luling\, LA\, 70070\, United States
CATEGORIES:Community Series,Purple
ATTACH;FMTTYPE=image/png:https://lafonartscenter.org/wp-content/uploads/2025/12/Web-Event-Image-7-04K8eR.png
END:VEVENT
BEGIN:VEVENT
DTSTART;TZID=America/Chicago:20251108T000000
DTEND;TZID=America/Chicago:20251109T235900
DTSTAMP:20260419T092847
CREATED:20251010T142202Z
LAST-MODIFIED:20251210T061308Z
UID:3555-1762560000-1762732740@lafonartscenter.org
SUMMARY:DHS TT presents Harry Potter and the Cursed Child (High School Edition)
DESCRIPTION:Destrehan High School Talented Theatre presents Harry Potter and the Cursed Child (High School Edition) \nNineteen years after Harry\, Ron\, and Hermione saved the wizarding world\, they’re back on a most extraordinary new adventure – this time\, joined by a brave new generation that has only just arrived at the legendary Hogwarts School of Witchcraft and Wizardry.  When Harry Potter’s headstrong son\, Albus\, befriends the son of his fiercest rival\, Draco Malfoy\, it sparks an unbelievable new journey for them all – with the power to change the past and future forever.  Prepare for spectacular spells\, a mind-blowing race through time\, and an epic battle to stop mysterious forces\, all while the future hangs in the balance.  This show is intended for audiences 8 and above. \nProduction Effects Advisory:\nThis production contains intense lighting effects\, including strobe lights\, flashes\, and magical illusions designed to surprise and amaze.  These elements may be disorienting for some guests.  If you are sensitive to bright or flashing lights\, or prone to light-induced reactions\, please take appropriate precautions before attending.  Prepare to have your eyes dazzled and your mind thoroughly boggled! \nPerformance Dates & Times:\nSaturday\, November 8 @ 1:00pm & 6:30pm\nSunday\, November 9 @ 1:00pm \nTicket Pricing:\nGeneral Admission – $25\nSenior – $20\nStudent Presale/Rush – $10 (Only available in-person)
URL:https://lafonartscenter.org/event/dhs-presents-harry-potter-and-the-cursed-child/
LOCATION:The Shell Theatre at the Lafon Arts Center\, 275 Judge Edward Dufresne Pkwy\, Luling\, LA\, 70070\, United States
CATEGORIES:Red,School Series
ATTACH;FMTTYPE=image/png:https://lafonartscenter.org/wp-content/uploads/2025/12/Web-Event-Image-6-V4XsZO.png
END:VEVENT
BEGIN:VEVENT
DTSTART;TZID=America/Chicago:20251114T190000
DTEND;TZID=America/Chicago:20251114T190000
DTSTAMP:20260419T092847
CREATED:20251210T061305Z
LAST-MODIFIED:20251210T192242Z
UID:4661-1763146800-1763146800@lafonartscenter.org
SUMMARY:DHS Varsity Choir Presents Much Ado About Madrigals
DESCRIPTION:Join the Destrehan Varsity Choir Singers on the Shell Stage at the Lafon Center for a Madrigal Dinner Theater unlike any other! An evening of fine dining\, Renaissance pageantry\, and unforgettable music will have audiences transported to the 16th and 17th centuries with a dazzling blend of authentic choral madrigals with a twist of musical theater selections inspired by the era\, performed through ensembles\, solos\, duets\, and small groups. Guided by a lively cast of characters—from Kings and Queens to Knights\, Lords\, Ladies\, and Jesters—the night flows with wit\, charm\, and period flair\, complete with costumes and theatrics that make this immersive experience a true feast for both the palate and the imagination. Bring your appetite and feel free to dress. \n(*Any allergen concerns should please be noted in an email to the director at kbertschi@wearescpps.org by Nov. 12)
URL:https://lafonartscenter.org/event/dhs-varsity-choir-presents-much-ado-about-madrigals-2/
LOCATION:The Shell Theatre at the Lafon Arts Center\, 275 Judge Edward Dufresne Pkwy\, Luling\, LA\, 70070\, United States
CATEGORIES:Red,School Series
ATTACH;FMTTYPE=image/png:https://lafonartscenter.org/wp-content/uploads/2025/12/Web-Event-Image-6-V4XsZO.png
END:VEVENT
BEGIN:VEVENT
DTSTART;TZID=America/Chicago:20251115T190000
DTEND;TZID=America/Chicago:20251115T190000
DTSTAMP:20260419T092847
CREATED:20251210T061303Z
LAST-MODIFIED:20251210T192137Z
UID:4660-1763233200-1763233200@lafonartscenter.org
SUMMARY:DHS Varsity Choir Presents Much Ado About Madrigals
DESCRIPTION:Join the Destrehan Varsity Choir Singers in the Black Box at the Lafon Center for a Madrigal Dinner Theater unlike any other! An evening of fine dining\, Renaissance pageantry\, and unforgettable music will have audiences transported to the 16th and 17th centuries with a dazzling blend of authentic choral madrigals with a twist of musical theater selections inspired by the era\, performed through ensembles\, solos\, duets\, and small groups. Guided by a lively cast of characters—from Kings and Queens to Knights\, Lords\, Ladies\, and Jesters—the night flows with wit\, charm\, and period flair\, complete with costumes and theatrics that make this immersive experience a true feast for both the palate and the imagination. Bring your appetite and feel free to dress. \n(*Any allergen concerns should please be noted in an email to the director at kbertschi@wearescpps.org by Nov. 12)
URL:https://lafonartscenter.org/event/dhs-varsity-choir-presents-much-ado-about-madrigals/
LOCATION:The Shell Theatre at the Lafon Arts Center\, 275 Judge Edward Dufresne Pkwy\, Luling\, LA\, 70070\, United States
CATEGORIES:Red,School Series
ATTACH;FMTTYPE=image/png:https://lafonartscenter.org/wp-content/uploads/2025/12/Web-Event-Image-6-V4XsZO.png
END:VEVENT
BEGIN:VEVENT
DTSTART;TZID=America/Chicago:20251118T183000
DTEND;TZID=America/Chicago:20251118T183000
DTSTAMP:20260419T092847
CREATED:20251210T061302Z
LAST-MODIFIED:20251210T192043Z
UID:4659-1763490600-1763490600@lafonartscenter.org
SUMMARY:NES / SRE TT Presents Saturday Morning Super Squad
DESCRIPTION:Let the NORCO Elementary School and St. Rose Elementary Talented Theatre take you back to a time when Saturday mornings meant cozy pajamas\, a big bowl of your favorite cereal\, and the thrill of turning on the TV to hear WHAM! Your favorite action-packed cartoon was ready to whisk you away on adventures filled with heroes and villains\, superpowers and potions. Join us as we present Saturday Morning Super Squad! It’s sure to be a BLAST!
URL:https://lafonartscenter.org/event/nes-sre-tt-presents-saturday-morning-super-squad-2/
LOCATION:The Shell Theatre at the Lafon Arts Center\, 275 Judge Edward Dufresne Pkwy\, Luling\, LA\, 70070\, United States
CATEGORIES:Red,School Series
ATTACH;FMTTYPE=image/png:https://lafonartscenter.org/wp-content/uploads/2025/12/ILYYPNC-Website-2-BTyOzL.png
END:VEVENT
BEGIN:VEVENT
DTSTART;TZID=America/Chicago:20251119T183000
DTEND;TZID=America/Chicago:20251119T183000
DTSTAMP:20260419T092847
CREATED:20251210T061149Z
LAST-MODIFIED:20251210T191955Z
UID:4656-1763577000-1763577000@lafonartscenter.org
SUMMARY:NES / SRE TT Presents Saturday Morning Super Squad
DESCRIPTION:Let the NES and SRE Talented Theatre take you back to a time when Saturday mornings meant cozy pajamas\, a big bowl of your favorite cereal\, and the thrill of turning on the TV to hear WHAM! Your favorite action-packed cartoon was ready to whisk you away on adventures filled with heroes and villains\, superpowers and potions. Join us as we present Saturday Morning Super Squad! It’s sure to be a BLAST!
URL:https://lafonartscenter.org/event/nes-sre-tt-presents-saturday-morning-super-squad/
LOCATION:The Shell Theatre at the Lafon Arts Center\, 275 Judge Edward Dufresne Pkwy\, Luling\, LA\, 70070\, United States
CATEGORIES:Red,School Series
ATTACH;FMTTYPE=image/png:https://lafonartscenter.org/wp-content/uploads/2025/12/ILYYPNC-Website-2-BTyOzL.png
END:VEVENT
BEGIN:VEVENT
DTSTART;TZID=America/Chicago:20251120T190000
DTEND;TZID=America/Chicago:20251120T190000
DTSTAMP:20260419T092847
CREATED:20250529T080040Z
LAST-MODIFIED:20250930T204316Z
UID:3286-1763665200-1763665200@lafonartscenter.org
SUMMARY:Menopause The Musical 2: Cruising Through 'The Change'®
DESCRIPTION:All aboard\, sisters! The hysterical sequel to the smash-hit Menopause The Musical® is finally here! Five years after their chance encounter in a department store\, we set sail with our beloved ladies for more high jinks on the high seas. Menopause The Musical 2: Cruising Through ‘The Change’® is a hilarious and heartfelt look at the joys of menopause and friendship — plus hot flashes\, mood swings\, and memory lapses! Join us on a trip of self-discovery\, backed by a new soundtrack of toe-tapping parodied hits from the 70s\, 80s and 90s. For these four ladies\, menopause was not the end\, but the beginning of a beautiful friendship where love conquers all\, and friendships never fail. \nPhoto credit: Menopause The Musical 2: Cruising Through ‘The Change’® New Hope 2023 Cast: Kimberly Ann Harris\, Teri Adams\, LaDonna Burns\, and Katie Karel. Credit: Mark Garvin.
URL:https://lafonartscenter.org/event/menopause-the-musical-2-cruising-through-the-change/
LOCATION:The Shell Theatre at the Lafon Arts Center\, 275 Judge Edward Dufresne Pkwy\, Luling\, LA\, 70070\, United States
CATEGORIES:Green,Mainstage Series
ATTACH;FMTTYPE=image/jpeg:https://lafonartscenter.org/wp-content/uploads/2025/05/MTM2-scaled.jpg
END:VEVENT
END:VCALENDAR