BEGIN:VCALENDAR
VERSION:2.0
PRODID:-//Lafon Arts Center - ECPv6.15.17.1//NONSGML v1.0//EN
CALSCALE:GREGORIAN
METHOD:PUBLISH
X-WR-CALNAME:Lafon Arts Center
X-ORIGINAL-URL:https://lafonartscenter.org
X-WR-CALDESC:Events for Lafon Arts Center
REFRESH-INTERVAL;VALUE=DURATION:PT1H
X-Robots-Tag:noindex
X-PUBLISHED-TTL:PT1H
BEGIN:VTIMEZONE
TZID:America/Chicago
BEGIN:DAYLIGHT
TZOFFSETFROM:-0600
TZOFFSETTO:-0500
TZNAME:CDT
DTSTART:20250309T080000
END:DAYLIGHT
BEGIN:STANDARD
TZOFFSETFROM:-0500
TZOFFSETTO:-0600
TZNAME:CST
DTSTART:20251102T070000
END:STANDARD
BEGIN:DAYLIGHT
TZOFFSETFROM:-0600
TZOFFSETTO:-0500
TZNAME:CDT
DTSTART:20260308T080000
END:DAYLIGHT
BEGIN:STANDARD
TZOFFSETFROM:-0500
TZOFFSETTO:-0600
TZNAME:CST
DTSTART:20261101T070000
END:STANDARD
BEGIN:DAYLIGHT
TZOFFSETFROM:-0600
TZOFFSETTO:-0500
TZNAME:CDT
DTSTART:20270314T080000
END:DAYLIGHT
BEGIN:STANDARD
TZOFFSETFROM:-0500
TZOFFSETTO:-0600
TZNAME:CST
DTSTART:20271107T070000
END:STANDARD
END:VTIMEZONE
BEGIN:VEVENT
DTSTART;VALUE=DATE:20260304
DTEND;VALUE=DATE:20260309
DTSTAMP:20260423T063929
CREATED:20260210T165635Z
LAST-MODIFIED:20260304T215848Z
UID:4987-1772582400-1773014399@lafonartscenter.org
SUMMARY:YALL Fest
DESCRIPTION:YALL Fest (Young Artists Live at the Lafon) will take place March 2–6\, 2026\, at the Lafon Arts Center. This regional pre-festival event welcomes school bands and choirs for a structured adjudication experience that includes a stage performance\, on-site clinic with an adjudicator\, and sight-reading session. Designed as a preparatory opportunity ahead of music performance assessments\, YALL Fest emphasizes musical growth through immediate feedback and professional collaboration.
URL:https://lafonartscenter.org/event/yall-fest/
LOCATION:The Shell Theatre at the Lafon Arts Center\, 275 Judge Edward Dufresne Pkwy\, Luling\, LA\, 70070\, United States
CATEGORIES:Red,School Series
ATTACH;FMTTYPE=image/png:https://lafonartscenter.org/wp-content/uploads/2026/02/Yall-Fest.png
END:VEVENT
END:VCALENDAR