BEGIN:VCALENDAR
VERSION:2.0
PRODID:-//Lafon Arts Center - ECPv6.15.17.1//NONSGML v1.0//EN
CALSCALE:GREGORIAN
METHOD:PUBLISH
X-WR-CALNAME:Lafon Arts Center
X-ORIGINAL-URL:https://lafonartscenter.org
X-WR-CALDESC:Events for Lafon Arts Center
REFRESH-INTERVAL;VALUE=DURATION:PT1H
X-Robots-Tag:noindex
X-PUBLISHED-TTL:PT1H
BEGIN:VTIMEZONE
TZID:America/Chicago
BEGIN:DAYLIGHT
TZOFFSETFROM:-0600
TZOFFSETTO:-0500
TZNAME:CDT
DTSTART:20250309T080000
END:DAYLIGHT
BEGIN:STANDARD
TZOFFSETFROM:-0500
TZOFFSETTO:-0600
TZNAME:CST
DTSTART:20251102T070000
END:STANDARD
BEGIN:DAYLIGHT
TZOFFSETFROM:-0600
TZOFFSETTO:-0500
TZNAME:CDT
DTSTART:20260308T080000
END:DAYLIGHT
BEGIN:STANDARD
TZOFFSETFROM:-0500
TZOFFSETTO:-0600
TZNAME:CST
DTSTART:20261101T070000
END:STANDARD
BEGIN:DAYLIGHT
TZOFFSETFROM:-0600
TZOFFSETTO:-0500
TZNAME:CDT
DTSTART:20270314T080000
END:DAYLIGHT
BEGIN:STANDARD
TZOFFSETFROM:-0500
TZOFFSETTO:-0600
TZNAME:CST
DTSTART:20271107T070000
END:STANDARD
END:VTIMEZONE
BEGIN:VEVENT
DTSTART;TZID=America/Chicago:20260110T130000
DTEND;TZID=America/Chicago:20260110T130000
DTSTAMP:20260423T094100
CREATED:20251215T154311Z
LAST-MODIFIED:20251215T154311Z
UID:4778-1768050000-1768050000@lafonartscenter.org
SUMMARY:District VII Honor Band Concert
DESCRIPTION:The District VII Band Directors Association proudly presents its 2026 Senior High\, Junior High\, and All Youth Honor Bands. The event will take place on Saturday\, January 10\, at 1:00 PM\, with doors opening at 12:00 PM. \nDistrict VII is a division of the Louisiana Music Educators Association (LMEA) and encompasses the parishes of Assumption\, Lafourche\, St. Charles\, St. John\, St. Mary\, Terrebonne\, and parts of Ascension and St. James. Each honor band features approximately 90–100 students from schools across the district. \nThe ensembles will be led by distinguished clinicians from across the country. \nSenior High will be conducted by Dr. David Campo\, Professor Emeritus and former Director of Bands at Stephen F. Austin State University\, as well as a widely recognized composer with commissions spanning middle school\, high school\, university\, and professional ensembles. \nThe Junior High ensemble will be led by Mr. Blake Bogan\, our District VII Band Director of the Year and the current Director of Bands at Raceland Middle and Elementary Schools\, where his ensembles consistently earn superior ratings. \nOur All Youth Ensemble will be conducted by Mrs. Kim Kessler\, Director of Bands at St. Clement of Rome in Metairie\, whose groups have also earned consistent superior ratings and numerous awards.
URL:https://lafonartscenter.org/event/district-vii-honor-band-concert/
LOCATION:The Shell Theatre at the Lafon Arts Center\, 275 Judge Edward Dufresne Pkwy\, Luling\, LA\, 70070\, United States
CATEGORIES:Red,School Series
ATTACH;FMTTYPE=image/png:https://lafonartscenter.org/wp-content/uploads/2025/12/Web-Event-Image-940-x-788-px-1.png
END:VEVENT
BEGIN:VEVENT
DTSTART;VALUE=DATE:20260116
DTEND;VALUE=DATE:20260119
DTSTAMP:20260423T094100
CREATED:20251210T060845Z
LAST-MODIFIED:20251210T152121Z
UID:4629-1768521600-1768780799@lafonartscenter.org
SUMMARY:HHS TT presents Into The Woods
DESCRIPTION:James Lapine and Stephen Sondheim take everyone’s favorite storybook characters and bring them together for a timeless\, yet relevant\, piece… and a rare modern classic. The Tony Award-winning book and score are both enchanting and touching. \nThe story follows a Baker and his wife\, who wish to have a child; Cinderella\, who wishes to attend the King’s Festival; and Jack\, who wishes his cow would give milk. When the Baker and his wife learn that they cannot have a child because of a Witch’s curse\, the two set off on a journey to break the curse. Everyone’s wish is granted\, but the consequences of their actions return to haunt them later with disastrous results. \nWarning: This show contains mature themes that may not appeal to all audiences. \nDates & Times: \n\nFriday\, Jan. 16 @ 7:00pm\nSaturday\, Jan. 17 @ 7:00pm\nSunday\, Jan. 18 @ 2:00pm
URL:https://lafonartscenter.org/event/hhs-tt-presents-into-the-woods/
LOCATION:The Shell Theatre at the Lafon Arts Center\, 275 Judge Edward Dufresne Pkwy\, Luling\, LA\, 70070\, United States
CATEGORIES:Red,School Series
ATTACH;FMTTYPE=image/png:https://lafonartscenter.org/wp-content/uploads/2025/12/HHS-hSQZKg.png
END:VEVENT
BEGIN:VEVENT
DTSTART;VALUE=DATE:20260128
DTEND;VALUE=DATE:20260130
DTSTAMP:20260423T094100
CREATED:20251210T060839Z
LAST-MODIFIED:20251210T152421Z
UID:4625-1769558400-1769731199@lafonartscenter.org
SUMMARY:JBM TT presents Number the Stars
DESCRIPTION:During the German occupation of Denmark in World War II\, the Nazis closed down Jewish-owned businesses and began to round up the Jews for relocation to concentration camps for the final solution. Danish freedom fighters of all ages risked everything in daring\, hurried attempts to rescue the entire Jewish population. In this stirring play\, young Annemarie and Kirsti Johansen face soldiers\, interrogations\, fierce dogs\, personal danger\, the loss of loved ones and their own fears as they try to help their friend Ellen Rosen escape across the ocean to Sweden and safety. Courage\, faith\, ingenuity and even their fledgling acting skills eventually win the day. All the drama\, pathos\, adventure\, terror and humor that have made Number the Stars a national best seller (and winner of the Newberry Award and the American Library Association Book of the Year Award) come to life in this powerful adaptation. \nPerformance Dates & Times: \nWednesday\, Jan. 28 @ 6:30pm\nThursday\, Jan. 29 @ 6:30pm
URL:https://lafonartscenter.org/event/jbm-tt-presents-number-the-stars/
LOCATION:The Shell Theatre at the Lafon Arts Center\, 275 Judge Edward Dufresne Pkwy\, Luling\, LA\, 70070\, United States
CATEGORIES:Red,School Series
ATTACH;FMTTYPE=image/png:https://lafonartscenter.org/wp-content/uploads/2025/12/ILYYPNC-Website-3-nKcGj2.png
END:VEVENT
BEGIN:VEVENT
DTSTART;TZID=America/Chicago:20260131T123000
DTEND;TZID=America/Chicago:20260131T123000
DTSTAMP:20260423T094100
CREATED:20260124T190610Z
LAST-MODIFIED:20260130T174027Z
UID:4959-1769862600-1769862600@lafonartscenter.org
SUMMARY:District VII Honor Choir
DESCRIPTION:The District VII Honor Choir brings together the region’s most outstanding student vocalists for an inspiring evening of choral music. Selected through a rigorous audition process\, singers from Ascension (West)\, Assumption\, Lafourche\, St. Charles\, St. James (West)\, St. John\, St. Mary\, and Terrebonne parishes represent the highest level of musicianship in our three featured ensembles: elementary\, middle school\, and high school. Under the direction of esteemed guest conductors\, this performance will truly showcase the power of the choral voice. \nDoors open at 11:45am.
URL:https://lafonartscenter.org/event/district-vii-honor-choir/
LOCATION:The Shell Theatre at the Lafon Arts Center\, 275 Judge Edward Dufresne Pkwy\, Luling\, LA\, 70070\, United States
CATEGORIES:Red,School Series
ATTACH;FMTTYPE=image/png:https://lafonartscenter.org/wp-content/uploads/2026/01/District-VII-Honor-Choir-Graphic.png
END:VEVENT
END:VCALENDAR