BEGIN:VCALENDAR
VERSION:2.0
PRODID:-//Lafon Arts Center - ECPv6.15.17.1//NONSGML v1.0//EN
CALSCALE:GREGORIAN
METHOD:PUBLISH
X-ORIGINAL-URL:https://lafonartscenter.org
X-WR-CALDESC:Events for Lafon Arts Center
REFRESH-INTERVAL;VALUE=DURATION:PT1H
X-Robots-Tag:noindex
X-PUBLISHED-TTL:PT1H
BEGIN:VTIMEZONE
TZID:America/Chicago
BEGIN:DAYLIGHT
TZOFFSETFROM:-0600
TZOFFSETTO:-0500
TZNAME:CDT
DTSTART:20240310T080000
END:DAYLIGHT
BEGIN:STANDARD
TZOFFSETFROM:-0500
TZOFFSETTO:-0600
TZNAME:CST
DTSTART:20241103T070000
END:STANDARD
BEGIN:DAYLIGHT
TZOFFSETFROM:-0600
TZOFFSETTO:-0500
TZNAME:CDT
DTSTART:20250309T080000
END:DAYLIGHT
BEGIN:STANDARD
TZOFFSETFROM:-0500
TZOFFSETTO:-0600
TZNAME:CST
DTSTART:20251102T070000
END:STANDARD
BEGIN:DAYLIGHT
TZOFFSETFROM:-0600
TZOFFSETTO:-0500
TZNAME:CDT
DTSTART:20260308T080000
END:DAYLIGHT
BEGIN:STANDARD
TZOFFSETFROM:-0500
TZOFFSETTO:-0600
TZNAME:CST
DTSTART:20261101T070000
END:STANDARD
END:VTIMEZONE
BEGIN:VEVENT
DTSTART;TZID=America/Chicago:20251205T183000
DTEND;TZID=America/Chicago:20251205T183000
DTSTAMP:20260419T081132
CREATED:20251210T061119Z
LAST-MODIFIED:20251210T191146Z
UID:4645-1764959400-1764959400@lafonartscenter.org
SUMMARY:SRE Music Winter Concert
DESCRIPTION:Get ready for a joyful evening of holiday music at the St. Rose Elementary School Winter Music Concert! This year’s concert will feature performances by four ensembles\, two bands and two choirs\, showcasing the incredible talent of our 4th and 5th grade students. \nThe fun-filled program will include seasonal favorites and festive classics\, including the choir’s lively rendition of “Santa Claus Is Coming to Town.” It’s sure to be a heartwarming celebration of music and holiday spirit for family and friends alike! \nThe concert begins at 6:30 p.m.\, with the lobby and house opening at 6:00 p.m. Come early\, grab a good seat\, and get ready to enjoy an evening of cheerful performances from our young musicians and singers!
URL:https://lafonartscenter.org/event/sre-music-winter-concert/
LOCATION:The Shell Theatre at the Lafon Arts Center\, 275 Judge Edward Dufresne Pkwy\, Luling\, LA\, 70070\, United States
CATEGORIES:Red,School Series
ATTACH;FMTTYPE=image/png:https://lafonartscenter.org/wp-content/uploads/2025/12/SRE-BVgJf7.png
END:VEVENT
END:VCALENDAR